BEGIN:VCALENDAR
VERSION:2.0
PRODID:-//ABSOLUTE RUN Sport Pauli - ECPv6.11.2//NONSGML v1.0//EN
CALSCALE:GREGORIAN
METHOD:PUBLISH
X-ORIGINAL-URL:https://absolute-run-sport-pauli.de
X-WR-CALDESC:Veranstaltungen für ABSOLUTE RUN Sport Pauli
REFRESH-INTERVAL;VALUE=DURATION:PT1H
X-Robots-Tag:noindex
X-PUBLISHED-TTL:PT1H
BEGIN:VTIMEZONE
TZID:Europe/Berlin
BEGIN:DAYLIGHT
TZOFFSETFROM:+0100
TZOFFSETTO:+0200
TZNAME:CEST
DTSTART:20240331T010000
END:DAYLIGHT
BEGIN:STANDARD
TZOFFSETFROM:+0200
TZOFFSETTO:+0100
TZNAME:CET
DTSTART:20241027T010000
END:STANDARD
BEGIN:DAYLIGHT
TZOFFSETFROM:+0100
TZOFFSETTO:+0200
TZNAME:CEST
DTSTART:20250330T010000
END:DAYLIGHT
BEGIN:STANDARD
TZOFFSETFROM:+0200
TZOFFSETTO:+0100
TZNAME:CET
DTSTART:20251026T010000
END:STANDARD
END:VTIMEZONE
BEGIN:VEVENT
DTSTART;TZID=Europe/Berlin:20250128T180000
DTEND;TZID=Europe/Berlin:20250128T190000
DTSTAMP:20260419T162302
CREATED:20241210T092150Z
LAST-MODIFIED:20250327T200416Z
UID:10000522-1738087200-1738090800@absolute-run-sport-pauli.de
SUMMARY:Wirbelsäulengymnastik II
DESCRIPTION:Ein starkes und flexibles Rückgrat ist entscheidend\, um Rückenschmerzen zu vermeiden\, die Haltung\nzu verbessern und die allgemeine Körperkraft zu steigern. In unserem Rückentraining erreichst du\nStabilität\, Funktionalität und Flexibilität\, um dein persönliches Ziel zu verwirklichen. Wir unterstützen\ndich auch bei individuellen Beschwerden sowie Vorerkrankungen und begleiten dich gerne
URL:https://absolute-run-sport-pauli.de/veranstaltungen/wirbelsaeulengymnastik-ii-5/
LOCATION:Vital Atelier\, Am Pferdemarkt 2a\, Deggendorf\, 94469\, Deutschland
CATEGORIES:Kursprogramm,RUN Academy,Wirbelsäulengymnastik,Wirbelsäulengymnastik-Kurse
ATTACH;FMTTYPE=image/png:https://absolute-run-sport-pauli.de/wp-content/uploads/2024/09/Wirbelsaeulengymnastik-II-1.png
ORGANIZER;CN="SPORT PAULI GmbH":MAILTO:info@absolute-run-sport-pauli.de
END:VEVENT
BEGIN:VEVENT
DTSTART;TZID=Europe/Berlin:20250121T180000
DTEND;TZID=Europe/Berlin:20250121T190000
DTSTAMP:20260419T162302
CREATED:20241210T092017Z
LAST-MODIFIED:20250327T200428Z
UID:10000521-1737482400-1737486000@absolute-run-sport-pauli.de
SUMMARY:Wirbelsäulengymnastik II
DESCRIPTION:Ein starkes und flexibles Rückgrat ist entscheidend\, um Rückenschmerzen zu vermeiden\, die Haltung\nzu verbessern und die allgemeine Körperkraft zu steigern. In unserem Rückentraining erreichst du\nStabilität\, Funktionalität und Flexibilität\, um dein persönliches Ziel zu verwirklichen. Wir unterstützen\ndich auch bei individuellen Beschwerden sowie Vorerkrankungen und begleiten dich gerne
URL:https://absolute-run-sport-pauli.de/veranstaltungen/wirbelsaeulengymnastik-ii-4/
LOCATION:Vital Atelier\, Am Pferdemarkt 2a\, Deggendorf\, 94469\, Deutschland
CATEGORIES:Kursprogramm,RUN Academy,Wirbelsäulengymnastik,Wirbelsäulengymnastik-Kurse
ATTACH;FMTTYPE=image/png:https://absolute-run-sport-pauli.de/wp-content/uploads/2024/09/Wirbelsaeulengymnastik-II-1.png
ORGANIZER;CN="SPORT PAULI GmbH":MAILTO:info@absolute-run-sport-pauli.de
END:VEVENT
BEGIN:VEVENT
DTSTART;TZID=Europe/Berlin:20250114T180000
DTEND;TZID=Europe/Berlin:20250114T190000
DTSTAMP:20260419T162302
CREATED:20241210T091923Z
LAST-MODIFIED:20250327T200450Z
UID:10000519-1736877600-1736881200@absolute-run-sport-pauli.de
SUMMARY:Wirbelsäulengymnastik II
DESCRIPTION:Ein starkes und flexibles Rückgrat ist entscheidend\, um Rückenschmerzen zu vermeiden\, die Haltung\nzu verbessern und die allgemeine Körperkraft zu steigern. In unserem Rückentraining erreichst du\nStabilität\, Funktionalität und Flexibilität\, um dein persönliches Ziel zu verwirklichen. Wir unterstützen\ndich auch bei individuellen Beschwerden sowie Vorerkrankungen und begleiten dich gerne
URL:https://absolute-run-sport-pauli.de/veranstaltungen/wirbelsaeulengymnastik-ii-3/
LOCATION:Vital Atelier\, Am Pferdemarkt 2a\, Deggendorf\, 94469\, Deutschland
CATEGORIES:Kursprogramm,RUN Academy,Wirbelsäulengymnastik,Wirbelsäulengymnastik-Kurse
ATTACH;FMTTYPE=image/png:https://absolute-run-sport-pauli.de/wp-content/uploads/2024/09/Wirbelsaeulengymnastik-II-1.png
ORGANIZER;CN="SPORT PAULI GmbH":MAILTO:info@absolute-run-sport-pauli.de
END:VEVENT
BEGIN:VEVENT
DTSTART;TZID=Europe/Berlin:20250107T180000
DTEND;TZID=Europe/Berlin:20250107T190000
DTSTAMP:20260419T162302
CREATED:20241210T091741Z
LAST-MODIFIED:20250327T200519Z
UID:10000520-1736272800-1736276400@absolute-run-sport-pauli.de
SUMMARY:Wirbelsäulengymnastik II
DESCRIPTION:Ein starkes und flexibles Rückgrat ist entscheidend\, um Rückenschmerzen zu vermeiden\, die Haltung\nzu verbessern und die allgemeine Körperkraft zu steigern. In unserem Rückentraining erreichst du\nStabilität\, Funktionalität und Flexibilität\, um dein persönliches Ziel zu verwirklichen. Wir unterstützen\ndich auch bei individuellen Beschwerden sowie Vorerkrankungen und begleiten dich gerne
URL:https://absolute-run-sport-pauli.de/veranstaltungen/wirbelsaeulengymnastik-ii-2/
LOCATION:Vital Atelier\, Am Pferdemarkt 2a\, Deggendorf\, 94469\, Deutschland
CATEGORIES:Kursprogramm,RUN Academy,Wirbelsäulengymnastik,Wirbelsäulengymnastik-Kurse
ATTACH;FMTTYPE=image/png:https://absolute-run-sport-pauli.de/wp-content/uploads/2024/09/Wirbelsaeulengymnastik-II-1.png
ORGANIZER;CN="SPORT PAULI GmbH":MAILTO:info@absolute-run-sport-pauli.de
END:VEVENT
BEGIN:VEVENT
DTSTART;TZID=Europe/Berlin:20241120T180000
DTEND;TZID=Europe/Berlin:20241120T190000
DTSTAMP:20260419T162302
CREATED:20240912T152919Z
LAST-MODIFIED:20250327T200546Z
UID:10000422-1732125600-1732129200@absolute-run-sport-pauli.de
SUMMARY:Rumpftraining
DESCRIPTION:Rumpftraining – stabile Mitte \nEine kräftige Rumpfmuskulatur fördert eine gesunde Körperhaltung\, minimiert das Risiko von\nVerletzungen und kann dazu beitragen Rückenschmerzen zu mindern oder vorzubeugen. Durch die\nStabilität und Kontrolle\, die du in unserem Training erreichst\, kann du deine individuelle Leistung in\ndeiner Sportart verbessern oder alltägliche Aufgaben erleichtern.
URL:https://absolute-run-sport-pauli.de/veranstaltungen/rumpftraining-12/
LOCATION:Vital Atelier\, Am Pferdemarkt 2a\, Deggendorf\, 94469\, Deutschland
CATEGORIES:Kursprogramm,Rumpftraining,RUN Academy
ATTACH;FMTTYPE=image/png:https://absolute-run-sport-pauli.de/wp-content/uploads/2024/09/Rumpftraining.png
ORGANIZER;CN="SPORT PAULI GmbH":MAILTO:info@absolute-run-sport-pauli.de
END:VEVENT
BEGIN:VEVENT
DTSTART;TZID=Europe/Berlin:20241120T100000
DTEND;TZID=Europe/Berlin:20241120T110000
DTSTAMP:20260419T162302
CREATED:20240912T154852Z
LAST-MODIFIED:20250327T200541Z
UID:10000481-1732096800-1732100400@absolute-run-sport-pauli.de
SUMMARY:Bauch-Beine-Po
DESCRIPTION:Das beliebte Workout zielt darauf ab\, die Muskulatur rund um Bauch\, Beine und Gesäß zu stärken\, straffen und zu formen. Außerhalb des ästhetischen Bereiches ist diese elementare Muskulatur besonders wichtig für die Stabilisierung des Rumpfes und für Bewegung und Flexibilität. Dich erwartet ein ganzheitliches Training mit verschiedenen Übungen\, um diese spezifischen Bereiche zu trainieren.
URL:https://absolute-run-sport-pauli.de/veranstaltungen/bauch-beine-po-11/
LOCATION:Vital Atelier\, Am Pferdemarkt 2a\, Deggendorf\, 94469\, Deutschland
CATEGORIES:Bauch-Beine-Po,Kursprogramm,RUN Academy
ATTACH;FMTTYPE=image/png:https://absolute-run-sport-pauli.de/wp-content/uploads/2024/09/Bauch-Beine-Po-1.png
ORGANIZER;CN="SPORT PAULI GmbH":MAILTO:info@absolute-run-sport-pauli.de
END:VEVENT
BEGIN:VEVENT
DTSTART;VALUE=DATE:20240712
DTEND;VALUE=DATE:20240715
DTSTAMP:20260419T162302
CREATED:20240515T134841Z
LAST-MODIFIED:20250327T200533Z
UID:10000328-1720742400-1721001599@absolute-run-sport-pauli.de
SUMMARY:Trailrunning-Seminar 24
DESCRIPTION:[vc_single_image image=“2701″ img_size=“full“ alignment=“center“][vc_single_image image=“2716″ img_size=“full“]
URL:https://absolute-run-sport-pauli.de/veranstaltungen/trailrunning-seminar-24/
LOCATION:Hotel Hierzegger\, Tauplitzalm 7\, Bad Mitterndorf\, 8982\, Österreich
CATEGORIES:RUN Academy,Trailrunning-Seminare
ORGANIZER;CN="SPORT PAULI GmbH":MAILTO:info@absolute-run-sport-pauli.de
END:VEVENT
BEGIN:VEVENT
DTSTART;TZID=Europe/Berlin:20240708T180000
DTEND;TZID=Europe/Berlin:20240708T200000
DTSTAMP:20260419T162302
CREATED:20240307T150718Z
LAST-MODIFIED:20240710T144525Z
UID:10000254-1720461600-1720468800@absolute-run-sport-pauli.de
SUMMARY:17. Tour de Kerscher | Eging am See Parkplatz Kurhaus | Laufschuh-Testaktion Adidas
DESCRIPTION:Treffpunkt jeden Montag 18:15 Uhr abwechselnd\nin Ingling\, Schalding I.d.D.\, Vilshofen Freibad\,\nEging am See.\n\n12 Wochen Lauftreff\n1x Training pro Woche für 1 Stunde\n1 Funktionsshirt für jeden Läufer\nintensiv ausgebildetet Laufttrainer\nEinteilung in verschiedene Leistungsklassen\nWalker\, Laufanfänger\, Läufer\, leistungsorientierte Läufer\n\nLaufschuh-Testaktion Adidas\n[vc_single_image image=“471″ img_size=“medium“ alignment=“center“]
URL:https://absolute-run-sport-pauli.de/veranstaltungen/17-tour-de-kerscher-eging-am-see-parkplatz-kurhaus-laufschuh-testaktion-adidas/
LOCATION:Eging am See Parkplatz Kurhaus\, Mühlbergstr. 5\, Eging\, 94535\, Deutschland
ATTACH;FMTTYPE=image/png:https://absolute-run-sport-pauli.de/wp-content/uploads/2024/03/15.04.24-Schalding-l.d.-Donau-Sport-Pauli-Karhu-Laufschuh-Testakion-2.png
ORGANIZER;CN="SPORT PAULI GmbH":MAILTO:info@absolute-run-sport-pauli.de
END:VEVENT
END:VCALENDAR